BEGIN:VCALENDAR
VERSION:2.0
CALSCALE:GREGORIAN
METHOD:PUBLISH
PRODID://LCDA//212162
BEGIN:VEVENT
DTSTAMP:20260421T095548
VTIMEZONE:America/New_York
DTSTART:20260423T150000Z
DTEND:20260423T160000Z
UID:212162
SUMMARY:Calibrating the Boardâ€™s Engagement in Strategy | KPMG Board Leadership Webcast
LOCATION:
DESCRIPTION:Calibrating the Boardâ€™s Engagement in Strategy | KPMG Board Leadership Webcast\n\n04/23/26 11:00 AM EST\n - 04/23/26 12:00 PM EST\Description:\nJoin LCDA Partner KMPG US and the KPMG Board Leadership Center as they explore how boards are leaning further in on the strategy process as AI, geopolitical risk, workforce transformation, and more reshape the business landscape.\n\nFrom devoting more time to envisioning the future and scenario planning to making risk and resilience part of the strategy discussion, we’ll explore how boards are calibrating their engagement. What does a strong strategy development process look like? Where can the board add the most value? What do the board and management need from each other to drive a strategy process that aligns opportunity and risk for long-term value?\n\nDate: Thursday, April 23, 2026\nTime: 11:00 a.m.–12:00 p.m. ET\nCPE: 1 credit\n\nSpeakers \nJohn H. Rodi, Co-Leader, KPMG Board Leadership Center\nSusan Chapman-Hughes, Director, J.M. Smucker Company, Toast, Inc.\nSara Mathew, Lead Director, State Street Corporation \n \nThere will be one continuing professional education (CPE) credit available to US participants who participate in the live webcast and meet the eligibility requirements. The webcast will last approximately one hour.\n\nAfter registering for this event, you will receive webcast log in instructions (or dial in for audio only participation).\n\nThis invitation is extended to LCDA members as a benefit of membership.
X-ALT-DESC;FMTTYPE=text/html:Calibrating the Boardâ€™s Engagement in Strategy | KPMG Board Leadership Webcast<br /><br />04/23/26 11:00 AM EST - 04/23/26 12:00 PM EST<br />Description:<br /><span style="font-size:16px">Join LCDA Partner KMPG US and the KPMG Board Leadership Center as they explore how boards are leaning further in on the strategy process as AI, geopolitical risk, workforce transformation, and more reshape the business landscape.<br />
<br />
From devoting more time to envisioning the future and scenario planning to making risk and resilience part of the strategy discussion, we&rsquo;ll explore how boards are calibrating their engagement. What does a strong strategy development process look like? Where can the board add the most value? What do the board and management need from each other to drive a strategy process that aligns opportunity and risk for long-term value?<br />
<br />
Date: Thursday, April 23, 2026<br />
Time: 11:00 a.m.&ndash;12:00 p.m. ET<br />
CPE: 1 credit<br />
<br />
<strong>Speakers&nbsp;</strong><br />
John H. Rodi, Co-Leader, KPMG Board Leadership Center<br />
Susan Chapman-Hughes, Director, J.M. Smucker Company, Toast, Inc.<br />
Sara Mathew, Lead Director, State Street Corporation&nbsp;<br />
&nbsp;<br />
There will be one continuing professional education (CPE) credit available to US participants who participate in the live webcast and meet the eligibility requirements. The webcast will last approximately one hour.<br />
<br />
After registering for this event, you will receive webcast log in instructions (or dial in for audio only participation).<br />
<br />
<em>This invitation is extended to LCDA members as a benefit of membership.</em></span>
PRIORITY:3
TRANSP:TRANSPARENT
BEGIN:VALARM
TRIGGER:-PT5M
ACTION:DISPLAY
DESCRIPTION:Reminder
END:VALARM
END:VEVENT
END:VCALENDAR
