BEGIN:VCALENDAR
VERSION:2.0
CALSCALE:GREGORIAN
METHOD:PUBLISH
PRODID://LCDA//209890
BEGIN:VEVENT
DTSTAMP:20260422T151455
VTIMEZONE:America/New_York
DTSTART:20260416T220000Z
DTEND:20260417T000000Z
UID:209890
SUMMARY:LCDA New England Region Networking Reception | Boston, MA
LOCATION:, Boston, MA
DESCRIPTION:LCDA New England Region Networking Reception | Boston, MA\n\n04/16/26 06:00 PM EST\n - 04/16/26 08:00 PM EST\Description:\nJoin LCDA and its foundation, the Latino Corporate Directors Education Foundation, on Thursday, April 16, as we celebrate the newest BoardReady Institute cohort, co-hosted by our Diamond Founding Partner, KPMG.\n\nWe look forward to bringing together LCDA members, partners, and aspiring directors for an evening of celebration and meaningful networking.\n\nDate: Thursday, April 16, 2026\nTime: 6:00 – 8:00 PM ET\nLocation: Smith & Wollensky, Atlantic Wharf, 294 Congress St, Boston, MA 02210\n\nBRI participants, speakers and panelist,are automatically registered for the reception and do not need to RSVP separately.\n\nFor Partners interested in attending, contact Partnership Manager Nicole Doyle at ndoyle@latinocorporatedirectors.org\n\nGeneral Questions: Email LCDA Events at events@latinocorporatedirectors.org\n\Location:\n\n\nBoston, MA
X-ALT-DESC;FMTTYPE=text/html:LCDA New England Region Networking Reception | Boston, MA<br /><br />04/16/26 06:00 PM EST - 04/16/26 08:00 PM EST<br />Description:<br /><p data-end="243" data-start="0"><span style="font-size:16px"><span style="font-family:arial,helvetica,sans-serif">Join LCDA and its foundation, the Latino Corporate Directors Education Foundation, on Thursday, April 16, as we celebrate the newest BoardReady Institute cohort, co-hosted by our Diamond Founding Partner, <a href="https://kpmg.com/us/en.html">KPMG</a>.</span></span></p>

<p data-end="385" data-start="245"><span style="font-size:16px"><span style="font-family:arial,helvetica,sans-serif">We look forward to bringing together LCDA members, partners, and aspiring directors for an evening of celebration and meaningful networking.</span></span></p>

<p data-end="471" data-is-last-node="" data-is-only-node="" data-start="387"><span style="font-size:16px"><span style="font-family:arial,helvetica,sans-serif"><strong data-end="396" data-start="387">Date:</strong> Thursday, April 16, 2026<br data-end="424" data-start="421" />
<strong data-end="433" data-is-only-node="" data-start="424">Time:</strong> 6:00 &ndash; 8:00 PM ET<br data-end="454" data-start="451" />
<strong data-end="467" data-start="454">Location:</strong>&nbsp;Smith &amp; Wollensky,&nbsp;</span></span>A<span style="font-size:16px"><span style="font-family:arial,helvetica,sans-serif">tlantic Wharf, 294 Congress St, Boston, MA 02210</span></span><br />
<br />
<span style="font-size:16px"><span style="font-family:arial,helvetica,sans-serif">BRI participants, speakers and panelist,are automatically registered for the reception and do not need to RSVP separately.</span></span></p>

<p data-end="57" data-start="0"><span style="font-size:16px"><span style="font-family:arial,helvetica,sans-serif">For Partners interested in attending, contact Partnership Manager Nicole Doyle at<a href="mailto:Â ndoyle@latinocorporatedirectors.org">&nbsp;</a><a href="mailto:lrodriguez@latinocorporatedirectors.org?subject=KPMG%20Equilar%20Board%20Leadership%20Forum%20">ndoyle@latinocorporatedirectors.org</a></span></span></p>

<p data-end="211" data-is-last-node="" data-is-only-node="" data-start="59"><span style="font-size:16px"><span style="font-family:arial,helvetica,sans-serif"><strong data-end="22" data-is-only-node="" data-start="0">General Questions:</strong> Email LCDA Events at <a data-end="79" data-start="44" rel="noopener">events@latinocorporatedirectors.org</a></span></span></p>
<br />Location:<br /><br /><br />Boston, MA 
PRIORITY:3
TRANSP:TRANSPARENT
BEGIN:VALARM
TRIGGER:-PT5M
ACTION:DISPLAY
DESCRIPTION:Reminder
END:VALARM
END:VEVENT
END:VCALENDAR
