BEGIN:VCALENDAR
VERSION:2.0
CALSCALE:GREGORIAN
METHOD:PUBLISH
PRODID://LCDA//209869
BEGIN:VEVENT
DTSTAMP:20260423T021028
VTIMEZONE:America/New_York
DTSTART:20260416T120000Z
DTEND:20260417T213000Z
UID:209869
SUMMARY:LCDEF 2026 BoardReady Institute | Boston, MA
LOCATION:KPMG Boston, Two Financial Center, 60 South Street, Boston, MA, 02111
DESCRIPTION:LCDEF 2026 BoardReady Institute | Boston, MA\n\n04/16/26 08:00 AM EST\n - 04/17/26 05:30 PM EST\Description:\nRegistration Is Now Open!\n\nSecure your spot at BRI Boston (April 16–17) and take advantage of a $200 Early Bird discount off the $3,700 program fee.\n\n\nSince its launch in 2017, the BRI has become a premier resource for boardroom readiness, delivering 12 programs and certifying over 430 participants. Developed in collaboration with KPMG, UC Law San Francisco, and Diligent, this flagship two-day program continues to set the standard in preparing executives for board service.\n\nBRI is designed for aspiring board members and first-time directors, providing a comprehensive foundation in corporate governance. Whether you are preparing for your first board seat, seek to deepen your network, or broaden your governance expertise, BRI equips you with the knowledge, connections, and confidence to navigate the journey to the boardroom effectively.\n\Location:\nKPMG Boston\nTwo Financial Center, 60 South Street\nBoston, MA 02111
X-ALT-DESC;FMTTYPE=text/html:LCDEF 2026 BoardReady Institute | Boston, MA<br /><br />04/16/26 08:00 AM EST - 04/17/26 05:30 PM EST<br />Description:<br /><p dir="ltr"><!--StartFragment--><span style="font-size:18px"><span style="font-family:tahoma,geneva,sans-serif"><strong>Registration Is Now Open!</strong></span></span><br />
<br />
<span style="font-size:16px"><span style="font-family:tahoma,geneva,sans-serif"><strong>Secure your spot at BRI Boston (April 16&ndash;17) and take advantage of a $200 Early Bird discount off the $3,700 program fee.</strong></span></span><br />
<!--</p--></p>

<p><span style="font-size:16px"><span style="font-family:tahoma,geneva,sans-serif">Since its launch in 2017, the BRI has become a premier resource for boardroom readiness, delivering 12 programs and certifying over&nbsp;<a data-auth="NotApplicable" data-linkindex="2" href="https://mms.latinocorporatedirectors.org/ct.php?lid=374849401&amp;mm=260420983021" rel="noopener noreferrer" target="_blank" title="https://mms.latinocorporatedirectors.org/ct.php?lid=374849401&amp;mm=260420983021">430 participants</a>. Developed in collaboration with KPMG, UC Law San Francisco, and Diligent, this flagship two-day program continues to set the standard in preparing executives for board service.</span></span></p>

<p><span style="font-size:16px"><span style="font-family:tahoma,geneva,sans-serif">BRI is designed for aspiring board members and first-time directors, providing a comprehensive foundation in corporate governance. Whether you are preparing for your first board seat, seek to deepen your network, or broaden your governance expertise, BRI equips you with the knowledge, connections, and confidence to navigate the journey to the boardroom effectively.</span></span></p>
<br />Location:<br />KPMG Boston<br />Two Financial Center, 60 South Street<br />Boston, MA 02111
PRIORITY:3
TRANSP:TRANSPARENT
BEGIN:VALARM
TRIGGER:-PT5M
ACTION:DISPLAY
DESCRIPTION:Reminder
END:VALARM
END:VEVENT
END:VCALENDAR
