BEGIN:VCALENDAR
VERSION:2.0
CALSCALE:GREGORIAN
METHOD:PUBLISH
PRODID://LCDA//209280
BEGIN:VEVENT
DTSTAMP:20260422T151551
VTIMEZONE:America/New_York
DTSTART:20260305T220000Z
DTEND:20260306T003000Z
UID:209280
SUMMARY:Governance, Growth & Innovation: Geopolitics in the Boardroom | Hosted by FTI Consulting
LOCATION:FTI Consulting, 1166 Avenue of the Americas , New York, NY, 10036
DESCRIPTION:Governance, Growth & Innovation: Geopolitics in the Boardroom | Hosted by FTI Consulting\n\n03/05/26 05:00 PM EST\n - 03/05/26 07:30 PM EST\Description:\nAs part of LCDA’s commitment to advancing governance excellence and boardroom impact, we are pleased to invite you to an upcoming Governance, Growth & Innovation (GGI) Session. These sessions are designed to convene corporate directors, senior executives, and trusted advisors around governance topics shaping today’s board agendas. While connection and community remain core to LCDA, our intent is clear: to create spaces where learning, insight exchange, and strategic dialogue strengthen board readiness and enterprise oversight.   \n\nOn March 5 in New York City, LCDA’s Mid-Atlantic Member Network is pleased to partner with FTI Consulting for a focused discussion titled Geopolitics in the Boardroom: Anticipating Risk, Preserving Value, and Communicating Under Pressure. Drawing on FTI Consulting’s global advisory and risk mitigation expertise, this conversation will explore how boards can anticipate and mitigate geopolitical risk while protecting enterprise value, navigate increasingly complex and shifting stakeholder dynamics, and identify strategic opportunities emerging from global geopolitical developments.\n\n\nDate: Thursday, March 5, 2026\nTime: 5:00 PM – 7:30 PM EST\nLocation: FTI Consulting, 1166 Avenue of the Americas, Floor 15, New York City, NY 10036\n\n\nArrival Instructions: A valid ID is required for lobby check-in. The front desk will provide elevator access, and the FTI team will welcome you on the 15th floor.\n\nThis invitation is extended exclusively to LCDA members and partners as a benefit of membership. LCDA reserves the right to cancel any registration at its discretion. Partners interested in attending may contact Nicole Doyle, Partnership Manager, at ndoyle@latinocorporatedirectors.org.\n\Location:\nFTI Consulting\n1166 Avenue of the Americas \nNew York, NY 10036
X-ALT-DESC;FMTTYPE=text/html:Governance, Growth & Innovation: Geopolitics in the Boardroom | Hosted by FTI Consulting<br /><br />03/05/26 05:00 PM EST - 03/05/26 07:30 PM EST<br />Description:<br /><p><span style="font-size:16px"><span style="font-family:arial,helvetica,sans-serif">As part of LCDA&rsquo;s commitment to advancing governance excellence and boardroom impact, we are pleased to invite you to an upcoming&nbsp;<strong>Governance, Growth &amp; Innovation (GGI) Session</strong>. These sessions are designed to convene corporate directors, senior executives, and trusted advisors around governance topics shaping today&rsquo;s board agendas. While connection and community remain core to LCDA, our intent is clear: to create spaces where learning, insight exchange, and strategic dialogue strengthen board readiness and enterprise oversight.&nbsp; &nbsp;<br />
<br />
On&nbsp;<strong>March 5 in New York City</strong>, LCDA&rsquo;s Mid-Atlantic Member Network is pleased to partner with&nbsp;<a data-auth="NotApplicable" data-linkindex="2" href="https://mms.latinocorporatedirectors.org/ct.php?lid=373583409&amp;mm=260377142549" rel="noopener noreferrer" target="_blank" title="https://mms.latinocorporatedirectors.org/ct.php?lid=373583409&amp;mm=260377142549"><strong>FTI Consulting</strong></a>&nbsp;for a focused discussion titled<strong>&nbsp;Geopolitics in the Boardroom: Anticipating Risk, Preserving Value, and Communicating Under Pressure.&nbsp;</strong>Drawing on FTI Consulting&rsquo;s global advisory and risk mitigation expertise, this conversation will explore how boards can anticipate and mitigate geopolitical risk while protecting enterprise value, navigate increasingly complex and shifting stakeholder dynamics, and identify strategic opportunities emerging from global geopolitical developments.</span></span></p>

<p><br />
<span style="font-size:16px"><span style="font-family:arial,helvetica,sans-serif"><strong data-olk-copy-source="MessageBody">Date:</strong>&nbsp;Thursday, March 5, 2026<br />
<strong>Time:</strong>&nbsp;5:00 PM &ndash; 7:30 PM EST<br />
<strong>Location:</strong>&nbsp;FTI Consulting, 1166 Avenue of the Americas, Floor 15, New York City, NY 10036</span></span></p>

<p><br />
<span style="font-size:16px"><span style="font-family:arial,helvetica,sans-serif"><strong>Arrival Instructions:&nbsp;</strong>A valid ID is required for lobby check-in. The front desk will provide elevator access, and the FTI team will welcome you on the 15th floor.</span></span></p>

<p><span style="font-size:16px"><span style="font-family:arial,helvetica,sans-serif"><em data-olk-copy-source="MessageBody">This invitation is extended exclusively to LCDA members and partners as a benefit of membership. LCDA reserves the right to cancel any registration at its discretion. Partners interested in attending may contact Nicole Doyle, Partnership Manager, at&nbsp;</em><a data-linkindex="7" href="mailto:ndoyle@latinocorporatedirectors.org" title="mailto:ndoyle@latinocorporatedirectors.org"><em>ndoyle@latinocorporatedirectors.org</em></a>.</span></span></p>
<br />Location:<br />FTI Consulting<br />1166 Avenue of the Americas <br />New York, NY 10036
PRIORITY:3
TRANSP:TRANSPARENT
BEGIN:VALARM
TRIGGER:-PT5M
ACTION:DISPLAY
DESCRIPTION:Reminder
END:VALARM
END:VEVENT
END:VCALENDAR
