BEGIN:VCALENDAR
VERSION:2.0
CALSCALE:GREGORIAN
METHOD:PUBLISH
PRODID://LCDA//208148
BEGIN:VEVENT
DTSTAMP:20260422T211746
VTIMEZONE:America/New_York
DTSTART:20260218T223000Z
DTEND:20260219T003000Z
UID:208148
SUMMARY:Governance, Growth & Innovation: Artificial Intelligence (AI) and Board Oversight | Hosted by BDO USA
LOCATION:
DESCRIPTION:Governance, Growth & Innovation: Artificial Intelligence (AI) and Board Oversight | Hosted by BDO USA\n\n02/18/26 05:30 PM EST\n - 02/18/26 07:30 PM EST\Description:\nJoin LCDA and BDO USA for a board-level conversation on how corporations are adopting artificial intelligence, with emphasis on governance, oversight, and strategic impact. Designed for directors seeking practical, decision-ready insights as AI reshapes the enterprise.\n\nWhy Attend:\nGain board-relevant perspectives on corporate AI adoption, hear from experienced governance leaders, and connect with fellow LCDA members and invited partners through substantive discussion and professional networking.\n\nAttendance is limited—please RSVP early to secure your attendance and registration. \n\nEvent Details\nDate: February 18, 2026\nTime: 5:30 PM – 7:30 PM EST\nLocation: BDO Miami, Miami Tower, 100 SE 2nd Street, 17th Floor, Miami, FL 33131\n\nThis invitation is extended to LCDA members as a benefit of membership. We encourage to take advantage of this timely opportunity to stay ahead of the issues shaping effective board leadership. LCDA reserves the right to cancel any registration.\n\nFor Partners interested in attending, contact Partnership Manager Nicole Doyle at ndoyle@latinocorporatedirectors.org.\n \n
X-ALT-DESC;FMTTYPE=text/html:Governance, Growth & Innovation: Artificial Intelligence (AI) and Board Oversight | Hosted by BDO USA<br /><br />02/18/26 05:30 PM EST - 02/18/26 07:30 PM EST<br />Description:<br /><p><span style="font-size:16px">Join LCDA and <a href="https://www.bdo.com/">BDO USA</a>&nbsp;for a&nbsp;board-level conversation on how corporations are adopting artificial intelligence, with emphasis on governance, oversight, and strategic impact. Designed for directors seeking practical, decision-ready insights as AI reshapes the enterprise.</span></p>

<p data-end="521" data-start="285"><span style="font-size:16px"><strong data-end="300" data-start="285">Why Attend:</strong><br data-end="303" data-start="300" />
Gain board-relevant perspectives on corporate AI adoption, hear from experienced governance leaders, and connect with fellow LCDA members and invited partners through substantive discussion and professional networking.</span></p>

<p><span style="font-size:16px"><strong>Attendance is limited&mdash;please RSVP early to secure your attendance and registration.&nbsp;</strong></span></p>

<p data-end="693" data-is-last-node="" data-is-only-node="" data-start="523"><span style="font-size:16px"><strong data-end="540" data-start="523">Event Details</strong><br data-end="543" data-start="540" />
<strong data-end="552" data-start="543">Date:</strong> February 18, 2026<br data-end="573" data-start="570" />
<strong data-end="582" data-start="573">Time:</strong> 5:30&nbsp;PM &ndash; 7:30 PM EST<br data-end="607" data-start="604" />
<strong data-end="620" data-start="607">Location:</strong> BDO Miami, Miami Tower, 100 SE 2nd Street, 17th Floor, Miami, FL 33131<br />
<br />
<em>This invitation is extended to LCDA members as a benefit of membership. We encourage to take advantage of this timely opportunity to stay ahead of the issues shaping effective board leadership.&nbsp;LCDA reserves the right to cancel any registration.</em><br />
<br />
For Partners interested in attending, contact Partnership Manager Nicole Doyle at&nbsp;<a href="mailto:lrodriguez@latinocorporatedirectors.org?subject=KPMG%20Equilar%20Board%20Leadership%20Forum%20">ndoyle@latinocorporatedirectors.org</a>.</span><br />
&nbsp;</p>

PRIORITY:3
TRANSP:TRANSPARENT
BEGIN:VALARM
TRIGGER:-PT5M
ACTION:DISPLAY
DESCRIPTION:Reminder
END:VALARM
END:VEVENT
END:VCALENDAR
