BEGIN:VCALENDAR
VERSION:2.0
CALSCALE:GREGORIAN
METHOD:PUBLISH
PRODID://LCDA//206788
BEGIN:VEVENT
DTSTAMP:20260422T210634
VTIMEZONE:America/New_York
DTSTART:20260203T200000Z
DTEND:20260203T204500Z
UID:206788
SUMMARY:Stricter States, Softer Feds: Does New Jerseyâ€™s Tougher Disparate Impact Rule Box Businesses In?
LOCATION:
DESCRIPTION:Stricter States, Softer Feds: Does New Jerseyâ€™s Tougher Disparate Impact Rule Box Businesses In?\n\n02/03/26 03:00 PM EST\n - 02/03/26 03:45 PM EST\Description:\nNew Jersey has thrown a major curveball into the national conversation on discrimination law. The state’s Division on Civil Rights has rolled out sweeping new rules that not only reaffirm disparate impact liability under state law, but also introduce tougher, broader standards affecting lending, housing, employment and more. This approach is in direct tension with the federal government’s view of disparate impact theory — including President Donald Trump’s executive order on “Restoring Equality of Opportunity and Meritocracy” and proposed revisions to Regulation B under the Equal Credit Opportunity Act. The result is a widening divide: States and federal regulators are increasingly embracing conflicting visions of what compliance with antidiscrimination laws means.\n\nJoin LCDA Partner Paul Hastings and its partners Jonice Gray, Kari Hall and Kenneth Gage as they break down New Jersey’s new framework, explore how it fits into the national landscape and offer practical guidance for navigating a regulatory environment that’s becoming more fragmented — and more challenging — by the day.\n
X-ALT-DESC;FMTTYPE=text/html:Stricter States, Softer Feds: Does New Jerseyâ€™s Tougher Disparate Impact Rule Box Businesses In?<br /><br />02/03/26 03:00 PM EST - 02/03/26 03:45 PM EST<br />Description:<br /><p data-olk-copy-source="MessageBody"><span style="font-size:16px"><span style="font-family:arial,helvetica,sans-serif">New Jersey has thrown a major curveball into the national conversation on discrimination law. The state&rsquo;s Division on Civil Rights has rolled out sweeping new rules that not only reaffirm disparate impact liability under state law, but also introduce tougher, broader standards affecting lending, housing, employment and more. This approach is in direct tension with the federal government&rsquo;s view of disparate impact theory &mdash; including President Donald Trump&rsquo;s executive order on &ldquo;Restoring Equality of Opportunity and Meritocracy&rdquo; and proposed revisions to Regulation B under the Equal Credit Opportunity Act. The result is a widening divide: States and federal regulators are increasingly embracing conflicting visions of what compliance with antidiscrimination laws means.</span></span></p>

<p><span style="font-size:16px"><span style="font-family:arial,helvetica,sans-serif">Join LCDA Partner Paul Hastings and its partners&nbsp;<a data-auth="NotApplicable" data-linkindex="1" href="https://link.oneplacedispatch.com/ls/click?upn=u001.KCmvn52EKyEK9ion6HZwfzecszbwMzmr2BCU8qGpwKPhhLIhg8SHoVWdSRLNvMVFFrEzA6tC-2Fh2ZP-2Fs4ae8CLQ-3D-3Dz0Cf_MXksADTyJI-2BRODj7Spyy7up-2BsTOU-2BoDoqK2Gpo3mRMlEpnJowPs6qgRUL9PrSOxD1Ihz6iw7hw1m3iY6g8DM8zNN5nw8J2KMemmkKh-2BEf20gEtEBbi63RKRXvlnuPVEw3mjFhmGdRpTV-2BEASq8-2BwW8LpsviEcyMOTY8LcjMsx3vSy1kfDZcqyq0CLm-2FulaNqSrkRb8Uzty2n0aHU0O-2BEAUkCMF3O4dVTb5XPUWvho7iOTwIZ-2BGRAqUXinm07P3NPCKN5-2FHpYQcY7FLNJhnfLUHirGzXsmaIKHBPmMuoTmQSo9vYQ6Ba15-2BlynB6lEFDX-2BhvgsiL0PynP8UbKxXvTBtOJ2lbxdpWenJ9NQDGg-2Bwg-3D" rel="noopener noreferrer" target="_blank" title="https://link.oneplacedispatch.com/ls/click?upn=u001.KCmvn52EKyEK9ion6HZwfzecszbwMzmr2BCU8qGpwKPhhLIhg8SHoVWdSRLNvMVFFrEzA6tC-2Fh2ZP-2Fs4ae8CLQ-3D-3Dz0Cf_MXksADTyJI-2BRODj7Spyy7up-2BsTOU-2BoDoqK2Gpo3mRMlEpnJowPs6qgRUL9PrSOxD1Ihz6iw7hw1m3iY6g8DM8zNN5nw8J2KMemmkKh-2BEf20gEtEBbi63RKRXvlnuPVEw3mjFhmGdRpTV-2BEASq8-2BwW8LpsviEcyMOTY8LcjMsx3vSy1kfDZcqyq0CLm-2FulaNqSrkRb8Uzty2n0aHU0O-2BEAUkCMF3O4dVTb5XPUWvho7iOTwIZ-2BGRAqUXinm07P3NPCKN5-2FHpYQcY7FLNJhnfLUHirGzXsmaIKHBPmMuoTmQSo9vYQ6Ba15-2BlynB6lEFDX-2BhvgsiL0PynP8UbKxXvTBtOJ2lbxdpWenJ9NQDGg-2Bwg-3D">Jonice Gray</a>,&nbsp;<a data-auth="NotApplicable" data-linkindex="2" href="https://link.oneplacedispatch.com/ls/click?upn=u001.KCmvn52EKyEK9ion6HZwfzecszbwMzmr2BCU8qGpwKPhhLIhg8SHoVWdSRLNvMVFjOAp1qBGWMeC7ml0B1Irdw-3D-3DTuSC_MXksADTyJI-2BRODj7Spyy7up-2BsTOU-2BoDoqK2Gpo3mRMlEpnJowPs6qgRUL9PrSOxD1Ihz6iw7hw1m3iY6g8DM8zNN5nw8J2KMemmkKh-2BEf20gEtEBbi63RKRXvlnuPVEw3mjFhmGdRpTV-2BEASq8-2BwW8LpsviEcyMOTY8LcjMsx3vSy1kfDZcqyq0CLm-2FulaNqSrkRb8Uzty2n0aHU0O-2BEAaeeTspybwd1TeXzhPhN2Vwn1igkap-2BDRpKp8V48Y-2FZ23QvmppixRE0WfcfRspkA9K71O2trpBC1a4w-2F-2BvGXzjzk0-2FmJVbspmObrZaD-2FZqBnhHy54xK8xLjMlYxNy2FEmtfhyZkVBZ2uVGZaRT1SCZ8-3D" rel="noopener noreferrer" target="_blank" title="https://link.oneplacedispatch.com/ls/click?upn=u001.KCmvn52EKyEK9ion6HZwfzecszbwMzmr2BCU8qGpwKPhhLIhg8SHoVWdSRLNvMVFjOAp1qBGWMeC7ml0B1Irdw-3D-3DTuSC_MXksADTyJI-2BRODj7Spyy7up-2BsTOU-2BoDoqK2Gpo3mRMlEpnJowPs6qgRUL9PrSOxD1Ihz6iw7hw1m3iY6g8DM8zNN5nw8J2KMemmkKh-2BEf20gEtEBbi63RKRXvlnuPVEw3mjFhmGdRpTV-2BEASq8-2BwW8LpsviEcyMOTY8LcjMsx3vSy1kfDZcqyq0CLm-2FulaNqSrkRb8Uzty2n0aHU0O-2BEAaeeTspybwd1TeXzhPhN2Vwn1igkap-2BDRpKp8V48Y-2FZ23QvmppixRE0WfcfRspkA9K71O2trpBC1a4w-2F-2BvGXzjzk0-2FmJVbspmObrZaD-2FZqBnhHy54xK8xLjMlYxNy2FEmtfhyZkVBZ2uVGZaRT1SCZ8-3D">Kari Hall</a>&nbsp;and&nbsp;<a data-auth="NotApplicable" data-linkindex="3" href="https://link.oneplacedispatch.com/ls/click?upn=u001.KCmvn52EKyEK9ion6HZwfzecszbwMzmr2BCU8qGpwKPhhLIhg8SHoVWdSRLNvMVF8fhkFfheKN33XcNQN75XzA-3D-3DasAo_MXksADTyJI-2BRODj7Spyy7up-2BsTOU-2BoDoqK2Gpo3mRMlEpnJowPs6qgRUL9PrSOxD1Ihz6iw7hw1m3iY6g8DM8zNN5nw8J2KMemmkKh-2BEf20gEtEBbi63RKRXvlnuPVEw3mjFhmGdRpTV-2BEASq8-2BwW8LpsviEcyMOTY8LcjMsx3vSy1kfDZcqyq0CLm-2FulaNqSrkRb8Uzty2n0aHU0O-2BEAbNJCXEzzeVNBtXx7zbRi7I7R78bT5e4XsS72wHOxVJIRslEiRz-2BMwVcHjb1T8ad5qEeUEN8MyAMQShXE-2BVMBSEkLsEaSr-2BIs0xKCGX-2BUbOuRW3TGMOArptSouQe9YZFhJ7tOQWeKnq1VdlB-2Fg5pkyI-3D" rel="noopener noreferrer" target="_blank" title="https://link.oneplacedispatch.com/ls/click?upn=u001.KCmvn52EKyEK9ion6HZwfzecszbwMzmr2BCU8qGpwKPhhLIhg8SHoVWdSRLNvMVF8fhkFfheKN33XcNQN75XzA-3D-3DasAo_MXksADTyJI-2BRODj7Spyy7up-2BsTOU-2BoDoqK2Gpo3mRMlEpnJowPs6qgRUL9PrSOxD1Ihz6iw7hw1m3iY6g8DM8zNN5nw8J2KMemmkKh-2BEf20gEtEBbi63RKRXvlnuPVEw3mjFhmGdRpTV-2BEASq8-2BwW8LpsviEcyMOTY8LcjMsx3vSy1kfDZcqyq0CLm-2FulaNqSrkRb8Uzty2n0aHU0O-2BEAbNJCXEzzeVNBtXx7zbRi7I7R78bT5e4XsS72wHOxVJIRslEiRz-2BMwVcHjb1T8ad5qEeUEN8MyAMQShXE-2BVMBSEkLsEaSr-2BIs0xKCGX-2BUbOuRW3TGMOArptSouQe9YZFhJ7tOQWeKnq1VdlB-2Fg5pkyI-3D">Kenneth Gage</a>&nbsp;as they break down New Jersey&rsquo;s new framework, explore how it fits into the national landscape and offer practical guidance for navigating a regulatory environment that&rsquo;s becoming more fragmented &mdash; and more challenging &mdash; by the day.</span></span></p>

PRIORITY:3
TRANSP:TRANSPARENT
BEGIN:VALARM
TRIGGER:-PT5M
ACTION:DISPLAY
DESCRIPTION:Reminder
END:VALARM
END:VEVENT
END:VCALENDAR
