BEGIN:VCALENDAR
VERSION:2.0
CALSCALE:GREGORIAN
METHOD:PUBLISH
PRODID://LCDA//206408
BEGIN:VEVENT
DTSTAMP:20260422T193155
VTIMEZONE:America/Los_Angeles
DTSTART:20260227T000000Z
DTEND:20260227T023000Z
UID:206408
SUMMARY:KPMG Building a Dynamic Board
LOCATION:KPMG Silicon Valley Office, 2755 Augustine Drive, 7th Floor, Santa Clara, CA, 95054
DESCRIPTION:KPMG Building a Dynamic Board\n\n02/26/26 04:00 PM PST\n - 02/26/26 06:30 PM PST\Description:\nLCDA Partner KPMG US and the Board Leadership Center invite LCDA Members to the next Building a Dynamic Board event, hosted in Silicon Valley.\n\nThis session will feature a fireside chat with LCDA Member Sylvia Acevedo, a trailblazer in technology, leadership, and innovation whose career spans NASA’s Jet Propulsion Laboratory and executive roles at Apple, Autodesk, Dell, IBM, and Girl Scouts of the USA (former CEO). She serves on the boards of Qualcomm and Credo Technology, where she helps guide companies driving the next wave of AI, connectivity, and advanced computing. \n\nFollowing the fireside chat, attendees will be invited you are invited to a networking reception with appetizers and drinks. This will be an excellent opportunity to connect with fellow board members, aspiring directors, and other industry leaders.\n\nThis invitation is extended to LCDA members as a benefit of membership. We encourage to take advantage of this timely opportunity to stay ahead of the issues shaping effective board leadership.\n\Location:\nKPMG Silicon Valley Office\n2755 Augustine Drive, 7th Floor\nSanta Clara, CA 95054
X-ALT-DESC;FMTTYPE=text/html:KPMG Building a Dynamic Board<br /><br />02/26/26 04:00 PM PST - 02/26/26 06:30 PM PST<br />Description:<br /><p><span style="font-family:arial,helvetica,sans-serif"><span style="font-size:16px">LCDA Partner KPMG&nbsp;US and the Board Leadership Center invite LCDA Members to the&nbsp;next&nbsp;Building a Dynamic Board&nbsp;event, hosted in&nbsp;Silicon Valley.<br />
<br />
This session will feature a fireside chat with LCDA Member Sylvia Acevedo,<strong>&nbsp;</strong>a trailblazer in technology, leadership, and innovation whose career spans NASA&rsquo;s Jet Propulsion Laboratory and executive roles at Apple, Autodesk, Dell, IBM, and Girl Scouts of the USA (former CEO). She serves on the boards of Qualcomm and Credo Technology, where she helps guide companies driving the next wave of AI, connectivity, and advanced computing.&nbsp;</span></span></p>

<p><span style="font-family:arial,helvetica,sans-serif"><span style="font-size:16px">Following the fireside chat, attendees will be invited you are invited to&nbsp;a&nbsp;networking reception&nbsp;with appetizers and drinks. This will be an excellent opportunity to connect with fellow board members, aspiring directors, and other industry leaders.<br />
<br />
<em>This invitation is extended to LCDA members as a benefit of membership. We encourage to take advantage of this timely opportunity to stay ahead of the issues shaping effective board leadership.</em></span></span></p>
<br />Location:<br />KPMG Silicon Valley Office<br />2755 Augustine Drive, 7th Floor<br />Santa Clara, CA 95054
PRIORITY:3
TRANSP:TRANSPARENT
BEGIN:VALARM
TRIGGER:-PT5M
ACTION:DISPLAY
DESCRIPTION:Reminder
END:VALARM
END:VEVENT
END:VCALENDAR
