BEGIN:VCALENDAR
VERSION:2.0
CALSCALE:GREGORIAN
METHOD:PUBLISH
PRODID://LCDA//205851
BEGIN:VEVENT
DTSTAMP:20260422T162935
VTIMEZONE:America/New_York
DTSTART:20260122T160000Z
DTEND:20260123T170000Z
UID:205851
SUMMARY:On the 2026 Board Agenda - KPMG Board Leadership Center Webcast
LOCATION:
DESCRIPTION:On the 2026 Board Agenda - KPMG Board Leadership Center Webcast\n\n01/22/26 11:00 AM EST\n - 01/23/26 12:00 PM EST\Description:\nJoin LCDA Partner KPMG for the first KPMG Board Leadership Center (BLC) quarterly webcast of 2026 as the KPMG BLC team discusses the critical challenges and priorities driving board and committee agendas in the year ahead. This briefing, On the 2026 Board Agenda, will examine the critical challenges and priorities shaping board and committee agendas in 2026, offering timely perspectives for directors and senior executives focused on effective governance and forward-looking oversight.\n\nDate: Thursday, January 22, 2026\nTime: 11:00 a.m.–12:00 p.m. ET\nCPE: 1 credit\nRegistration: Click here to register (complimentary)\n\nThis invitation is extended to LCDA members as a benefit of membership. We encourage to take advantage of this timely opportunity to stay ahead of the issues shaping effective board leadership.\n
X-ALT-DESC;FMTTYPE=text/html:On the 2026 Board Agenda - KPMG Board Leadership Center Webcast<br /><br />01/22/26 11:00 AM EST - 01/23/26 12:00 PM EST<br />Description:<br /><p>Join LCDA Partner KPMG for the first&nbsp;<a aria-label="Link KPMG Board Leadership Center (BLC)" href="https://kpmg.com/us/en/board-leadership.html" id="menur3lh" rel="noreferrer noopener" target="_blank" title="https://kpmg.com/us/en/board-leadership.html">KPMG Board Leadership Center (BLC)</a>&nbsp;quarterly webcast&nbsp;of 2026 as the KPMG BLC team discusses the critical challenges and priorities driving board and committee agendas in the year ahead. This briefing,&nbsp;<strong>On the 2026 Board Agenda</strong>, will examine the critical challenges and priorities shaping board and committee agendas in 2026, offering timely perspectives for directors and senior executives focused on effective governance and forward-looking oversight.<br />
<br />
<strong>Date:</strong>&nbsp;Thursday,&nbsp;January 22,&nbsp;2026<br />
<strong>Time:</strong>&nbsp;11:00&nbsp;a.m.&ndash;12:00&nbsp;p.m. ET<br />
<strong>CPE:</strong>&nbsp;1 credit<br />
<strong>Registration: </strong>Click&nbsp;<a href="https://events-meetings.kpmg.com/event/VTNL9ZR66DW/regProcessStep1">here</a>&nbsp;to register (complimentary)<br />
<br />
<em>This invitation is extended to LCDA members as a benefit of membership. We encourage to take advantage of this timely opportunity to stay ahead of the issues shaping effective board leadership.</em></p>

PRIORITY:3
TRANSP:TRANSPARENT
BEGIN:VALARM
TRIGGER:-PT5M
ACTION:DISPLAY
DESCRIPTION:Reminder
END:VALARM
END:VEVENT
END:VCALENDAR
