BEGIN:VCALENDAR
VERSION:2.0
CALSCALE:GREGORIAN
METHOD:PUBLISH
PRODID://LCDA//201175
BEGIN:VEVENT
DTSTAMP:20260422T194404
VTIMEZONE:America/Los_Angeles
DTSTART:20251106T153000Z
DTEND:20251106T173000Z
UID:201175
SUMMARY:Up and to The Right - the Board's Role in Company Growth
LOCATION:Wilson Sonsini Goodrich & Rosati, 650 Page Mill Rd, Palo Alto, CA, 94304
DESCRIPTION:Up and to The Right - the Board's Role in Company Growth\n\n11/06/25 07:30 AM PST\n - 11/06/25 09:30 AM PST\Description:\nJoin LCDA Partner SVDX for in-person session to discuss the contributions Board members can make to the top-line performance of the company they serve. Topics will include M&A activity, new market identification, joint venture opportunities, and more! \n\nTo register, visit the SVDX website. This event is complimentary.\Location:\nWilson Sonsini Goodrich & Rosati\n650 Page Mill Rd\nPalo Alto, CA 94304
X-ALT-DESC;FMTTYPE=text/html:Up and to The Right - the Board's Role in Company Growth<br /><br />11/06/25 07:30 AM PST - 11/06/25 09:30 AM PST<br />Description:<br />Join LCDA Partner SVDX&nbsp;for in-person session to discuss the contributions Board members can make to the top-line performance of the company they serve. Topics will include M&amp;A activity, new market identification, joint venture opportunities, and more!&nbsp;<br />
<br />
To register, visit the SVDX <a href="https://lp.constantcontactpages.com/ev/reg/f8nxy38/lp/a81810f3-4d22-4ff7-bd3f-44e3788b2b0e?source_id=a5c96773-3ff9-475c-9d4b-985754e9dd27&amp;source_type=em&amp;c=QgQO2a2FYmIEe0OXc24mB7YsLqyDlZcvllEW6ctCtTIzKvpxNOIEBw==">website</a>. This event is complimentary.<br />Location:<br />Wilson Sonsini Goodrich & Rosati<br />650 Page Mill Rd<br />Palo Alto, CA 94304
PRIORITY:3
TRANSP:TRANSPARENT
BEGIN:VALARM
TRIGGER:-PT5M
ACTION:DISPLAY
DESCRIPTION:Reminder
END:VALARM
END:VEVENT
END:VCALENDAR
